BEGIN:VCALENDAR
VERSION:2.0
PRODID:-//Northern Spirit Regional Council - ECPv6.15.20//NONSGML v1.0//EN
CALSCALE:GREGORIAN
METHOD:PUBLISH
X-ORIGINAL-URL:https://staging.northernspiritrc.ca
X-WR-CALDESC:Events for Northern Spirit Regional Council
REFRESH-INTERVAL;VALUE=DURATION:PT1H
X-Robots-Tag:noindex
X-PUBLISHED-TTL:PT1H
BEGIN:VTIMEZONE
TZID:America/Edmonton
BEGIN:DAYLIGHT
TZOFFSETFROM:-0700
TZOFFSETTO:-0600
TZNAME:MDT
DTSTART:20200308T090000
END:DAYLIGHT
BEGIN:STANDARD
TZOFFSETFROM:-0600
TZOFFSETTO:-0700
TZNAME:MST
DTSTART:20201101T080000
END:STANDARD
BEGIN:DAYLIGHT
TZOFFSETFROM:-0700
TZOFFSETTO:-0600
TZNAME:MDT
DTSTART:20210314T090000
END:DAYLIGHT
BEGIN:STANDARD
TZOFFSETFROM:-0600
TZOFFSETTO:-0700
TZNAME:MST
DTSTART:20211107T080000
END:STANDARD
BEGIN:DAYLIGHT
TZOFFSETFROM:-0700
TZOFFSETTO:-0600
TZNAME:MDT
DTSTART:20220313T090000
END:DAYLIGHT
BEGIN:STANDARD
TZOFFSETFROM:-0600
TZOFFSETTO:-0700
TZNAME:MST
DTSTART:20221106T080000
END:STANDARD
END:VTIMEZONE
BEGIN:VEVENT
DTSTART;TZID=America/Edmonton:20211027T190000
DTEND;TZID=America/Edmonton:20211027T210000
DTSTAMP:20260421T124112
CREATED:20210922T194502Z
LAST-MODIFIED:20210929T002308Z
UID:6329-1635361200-1635368400@staging.northernspiritrc.ca
SUMMARY:No Easy Jesus: Affirming theology and practice in our contexts
DESCRIPTION:.An evening exploring 2SLGBTQIA+ affirming theology and practices in our contexts\, organized by the Northern Spirit Affirming Task Group. \nThis event is our annual meeting education space and all delegates are invited\, along with all the people of the Regional Council. Come and learn together while we help the Regional Council in its Affirming journey. \n  \nZoom link \nMeeting ID: 981 1019 6816 \nPassword: 980621 \nDial by your location \n+1 778 907 2071 Canada \n+1 438 809 7799 Canada \n+1 587 328 1099 Canada \n+1 647 374 4685 Canada \n+1 647 558 0588 Canada \n855 703 8985 Canada Toll-free \n 
URL:https://staging.northernspiritrc.ca/event/no-easy-jesus-affirming-theology-and-practice-in-our-contexts/
LOCATION:Zoom\, Canada
CATEGORIES:LGBTQIA2S+,Regional event
ATTACH;FMTTYPE=image/png:https://staging.northernspiritrc.ca/wp-content/uploads/2021/09/No-Easy-Jesus-event-600x400-final-e1632870837964.png
END:VEVENT
END:VCALENDAR