BEGIN:VCALENDAR
VERSION:2.0
PRODID:-//Northern Spirit Regional Council - ECPv6.15.20//NONSGML v1.0//EN
CALSCALE:GREGORIAN
METHOD:PUBLISH
X-WR-CALNAME:Northern Spirit Regional Council
X-ORIGINAL-URL:https://staging.northernspiritrc.ca
X-WR-CALDESC:Events for Northern Spirit Regional Council
REFRESH-INTERVAL;VALUE=DURATION:PT1H
X-Robots-Tag:noindex
X-PUBLISHED-TTL:PT1H
BEGIN:VTIMEZONE
TZID:America/Edmonton
BEGIN:DAYLIGHT
TZOFFSETFROM:-0700
TZOFFSETTO:-0600
TZNAME:MDT
DTSTART:20190310T090000
END:DAYLIGHT
BEGIN:STANDARD
TZOFFSETFROM:-0600
TZOFFSETTO:-0700
TZNAME:MST
DTSTART:20191103T080000
END:STANDARD
BEGIN:DAYLIGHT
TZOFFSETFROM:-0700
TZOFFSETTO:-0600
TZNAME:MDT
DTSTART:20200308T090000
END:DAYLIGHT
BEGIN:STANDARD
TZOFFSETFROM:-0600
TZOFFSETTO:-0700
TZNAME:MST
DTSTART:20201101T080000
END:STANDARD
BEGIN:DAYLIGHT
TZOFFSETFROM:-0700
TZOFFSETTO:-0600
TZNAME:MDT
DTSTART:20210314T090000
END:DAYLIGHT
BEGIN:STANDARD
TZOFFSETFROM:-0600
TZOFFSETTO:-0700
TZNAME:MST
DTSTART:20211107T080000
END:STANDARD
END:VTIMEZONE
BEGIN:VEVENT
DTSTART;VALUE=DATE:20200501
DTEND;VALUE=DATE:20200504
DTSTAMP:20260421T111313
CREATED:20181123T005610Z
LAST-MODIFIED:20200331T210240Z
UID:356-1588356000-1588528799@staging.northernspiritrc.ca
SUMMARY:Affirming Leaders' Day for Alberta
DESCRIPTION:PLEASE NOTE: this event will now take place online. \nAll welcome to this faith-based development and connection day for allied and LGBTQ2S+ folks. Our in person Affirming Leaders Day is cancelled\, however\, we are now hosting our conference online!  \nYou are invited to join us on Zoom for a day of illuminating and artistic speakers\, on topics of faith\, LGBTQ2S+ inclusion and more! \nVERY special guests announced soon… \nAffirming Leaders Day is a faith-based development & connection day for allied and LGBTQ2S+ folks.\n____ \nWhen: Saturday\, May 2\, 2020 – 9:30am-4:15pm (session times TBA)\nWhere: On Zoom\, you can watch/listen from your computer\, tablet\, or smart phone! \nTicket link available soon.
URL:https://staging.northernspiritrc.ca/event/new-year-congregation/
LOCATION:Zoom\, Canada
CATEGORIES:LGBTQIA2S+,Regional Council
ATTACH;FMTTYPE=image/png:https://staging.northernspiritrc.ca/wp-content/uploads/2018/11/AffirmingLeadersDay2020.png
END:VEVENT
BEGIN:VEVENT
DTSTART;VALUE=DATE:20200429
DTEND;VALUE=DATE:20200503
DTSTAMP:20260421T111313
CREATED:20181123T005756Z
LAST-MODIFIED:20200331T205154Z
UID:365-1588183200-1588442399@staging.northernspiritrc.ca
SUMMARY:POSTPONED Annual Gathering: Women of the United Church in Alberta and the Northwest Territories
DESCRIPTION:Due to the safety protocols related to the COVID-19 Coronavirus\, the Women of the United Church in the Chinook Winds and Northern Spirit regions have made the decision to postpone  their Annual Gathering and AGM that were to be held April 30 to May 2. The FCJ Christian Life Centre in Calgary has been very helpful\, and they have tentatively re-booked for September 10-12\, 2020. Further information\, will be posted as it is available.
URL:https://staging.northernspiritrc.ca/event/easter-celebration/
LOCATION:FCJ Centre\, 219 19 Ave SW\, Calgary\, AB\, T2S 0C8\, Canada
CATEGORIES:Regional Council,UCW
END:VEVENT
END:VCALENDAR