BEGIN:VCALENDAR
VERSION:2.0
PRODID:-//Northern Spirit Regional Council - ECPv6.15.20//NONSGML v1.0//EN
CALSCALE:GREGORIAN
METHOD:PUBLISH
X-WR-CALNAME:Northern Spirit Regional Council
X-ORIGINAL-URL:https://staging.northernspiritrc.ca
X-WR-CALDESC:Events for Northern Spirit Regional Council
REFRESH-INTERVAL;VALUE=DURATION:PT1H
X-Robots-Tag:noindex
X-PUBLISHED-TTL:PT1H
BEGIN:VTIMEZONE
TZID:America/Edmonton
BEGIN:DAYLIGHT
TZOFFSETFROM:-0700
TZOFFSETTO:-0600
TZNAME:MDT
DTSTART:20190310T090000
END:DAYLIGHT
BEGIN:STANDARD
TZOFFSETFROM:-0600
TZOFFSETTO:-0700
TZNAME:MST
DTSTART:20191103T080000
END:STANDARD
BEGIN:DAYLIGHT
TZOFFSETFROM:-0700
TZOFFSETTO:-0600
TZNAME:MDT
DTSTART:20200308T090000
END:DAYLIGHT
BEGIN:STANDARD
TZOFFSETFROM:-0600
TZOFFSETTO:-0700
TZNAME:MST
DTSTART:20201101T080000
END:STANDARD
BEGIN:DAYLIGHT
TZOFFSETFROM:-0700
TZOFFSETTO:-0600
TZNAME:MDT
DTSTART:20210314T090000
END:DAYLIGHT
BEGIN:STANDARD
TZOFFSETFROM:-0600
TZOFFSETTO:-0700
TZNAME:MST
DTSTART:20211107T080000
END:STANDARD
END:VTIMEZONE
BEGIN:VEVENT
DTSTART;TZID=America/Edmonton:20201014T193000
DTEND;TZID=America/Edmonton:20201014T213000
DTSTAMP:20260421T141545
CREATED:20200529T173716Z
LAST-MODIFIED:20200909T212534Z
UID:4379-1602703800-1602711000@staging.northernspiritrc.ca
SUMMARY:2nd Annual Northern Spirit Regional Council Meeting
DESCRIPTION:The Second Annual Northern Spirit Regional Council Meeting will be held online in October.\nMinistry Personnel\, Lay Representatives from Communities of Faith\, Youth\, and Guests from all over the Northern Spirit region will be called to gather together virtually for worship\, decision-making\, celebration\, and setting future directions for the Regional Council on:\nWednesday\, October 14\, 7:30 to 9:30 pm (MDT)\, for connection\, listening and discussing the business before the Regional Council; and\nWednesday\, October 21\, 7:30 to 9:30 (MDT) pm\, for decision-making.\nPrior to the meetings\, there will be opportunities for learning about Remit 1\, and other important proposals or reports.\nAs plans unfold\, information will be added to the Regional Council Meeting web page. \n\n\n\n\n\n\n\n\n 
URL:https://staging.northernspiritrc.ca/event/2nd-annual-northern-spirit-regional-council-meeting/2020-10-14/
CATEGORIES:Events,Meeting,Regional Council,Regional event
ATTACH;FMTTYPE=image/jpeg:https://staging.northernspiritrc.ca/wp-content/uploads/2020/02/2020-Logo.jpg
END:VEVENT
BEGIN:VEVENT
DTSTART;VALUE=DATE:20200611
DTEND;VALUE=DATE:20200615
DTSTAMP:20260421T141545
CREATED:20181126T004627Z
LAST-MODIFIED:20200529T172310Z
UID:353-1591833600-1592179199@staging.northernspiritrc.ca
SUMMARY:POSTPONED Second Annual Meeting of the Northern Spirit Regional Council
DESCRIPTION:Postponed to October 2020 and moved to an online meeting.    \nOur  theme will be “Called to Be …”\nAll information about the meeting\, including registration\, docket\, and full details\, will be posted here:\nhttps://staging.northernspiritrc.ca/news/regional-council-meeting/
URL:https://staging.northernspiritrc.ca/event/spring-fling/
LOCATION:Augustana Campus\, U of Alberta\, 4901 - 46 Avenue\, Camrose\, AB\, T4V 2R3\, Canada
CATEGORIES:Meeting,Regional Council,Regional event
ATTACH;FMTTYPE=image/jpeg:https://staging.northernspiritrc.ca/wp-content/uploads/2020/03/Augustana.jpg
END:VEVENT
END:VCALENDAR