BEGIN:VCALENDAR
VERSION:2.0
PRODID:-//Northern Spirit Regional Council - ECPv6.15.20//NONSGML v1.0//EN
CALSCALE:GREGORIAN
METHOD:PUBLISH
X-ORIGINAL-URL:https://staging.northernspiritrc.ca
X-WR-CALDESC:Events for Northern Spirit Regional Council
REFRESH-INTERVAL;VALUE=DURATION:PT1H
X-Robots-Tag:noindex
X-PUBLISHED-TTL:PT1H
BEGIN:VTIMEZONE
TZID:America/Edmonton
BEGIN:DAYLIGHT
TZOFFSETFROM:-0700
TZOFFSETTO:-0600
TZNAME:MDT
DTSTART:20200308T090000
END:DAYLIGHT
BEGIN:STANDARD
TZOFFSETFROM:-0600
TZOFFSETTO:-0700
TZNAME:MST
DTSTART:20201101T080000
END:STANDARD
BEGIN:DAYLIGHT
TZOFFSETFROM:-0700
TZOFFSETTO:-0600
TZNAME:MDT
DTSTART:20210314T090000
END:DAYLIGHT
BEGIN:STANDARD
TZOFFSETFROM:-0600
TZOFFSETTO:-0700
TZNAME:MST
DTSTART:20211107T080000
END:STANDARD
BEGIN:DAYLIGHT
TZOFFSETFROM:-0700
TZOFFSETTO:-0600
TZNAME:MDT
DTSTART:20220313T090000
END:DAYLIGHT
BEGIN:STANDARD
TZOFFSETFROM:-0600
TZOFFSETTO:-0700
TZNAME:MST
DTSTART:20221106T080000
END:STANDARD
END:VTIMEZONE
BEGIN:VEVENT
DTSTART;TZID=America/Edmonton:20210504T190000
DTEND;TZID=America/Edmonton:20210504T210000
DTSTAMP:20260421T153945
CREATED:20210326T223035Z
LAST-MODIFIED:20210326T223136Z
UID:5612-1620154800-1620162000@staging.northernspiritrc.ca
SUMMARY:Regional Council meeting 2021
DESCRIPTION:Theme: LOVING OUR NEIGHBOUR AND OURSELVES\nThe 3rd Annual Meeting of Northern Spirit Regional Council will be held online via Zoom\, Tuesday\, May 4 and Thursday\, May 6. 2021.\nThe sessions will be from 7:00 pm to 9:00 pm (MDT). \nThe registration information and form will be sent to Communities of Faith\, Ministry Personnel and Lay Representatives. Communities of Faith: please submit to the Regional Council Office the names and contact information for your Lay Representatives\, so that no one is missed. \n\n\n\n\n\n\n\n\nA major item on the Agenda will be the election of Commissioners to the 44th General Council\, meeting online in July\, 2022. Nominations are now being sought for Commissioners from the Northern Spirit Regional Council. \nTo read the General Council Commissioner Position Description\, please click here.\nNominations will be received using the Expression of Interest and Nominations Form found here. \n 
URL:https://staging.northernspiritrc.ca/event/regional-council-meeting-2021/2021-05-04/
CATEGORIES:Events
ATTACH;FMTTYPE=image/png:https://staging.northernspiritrc.ca/wp-content/uploads/2021/03/Northern-Spirit-regional-meeting-logo-callout.png
END:VEVENT
END:VCALENDAR